BEGIN:VCALENDAR
VERSION:2.0
PRODID:-//..:: BBQ und GRILL AKADEMIE ::..//NONSGML kigkonsult.se iCalcreator 2.41.92//
CALSCALE:GREGORIAN
METHOD:PUBLISH
UID:38313539-3364-4434-a432-623434343366
X-WR-CALNAME:iCagenda
X-WR-CALDESC:Event Management Extension for Joomla!
X-WR-RELCALID:3E26604A-50F4-4449-8B3E-E4F4932D05B5
X-WR-TIMEZONE:Europe/Vienna
BEGIN:VTIMEZONE
TZID:Europe/Vienna
TZUNTIL:20251026T010000Z
BEGIN:STANDARD
TZNAME:CET
DTSTART:20231029T030000
TZOFFSETFROM:+0200
TZOFFSETTO:+0100
RDATE:20241027T030000
END:STANDARD
BEGIN:DAYLIGHT
TZNAME:CEST
DTSTART:20240331T020000
TZOFFSETFROM:+0100
TZOFFSETTO:+0200
RDATE:20250330T020000
END:DAYLIGHT
END:VTIMEZONE
BEGIN:VEVENT
UID:37336161-3830-4134-a133-383038313564
DTSTAMP:20260423T111243Z
CATEGORIES:BuGA Grillveranstaltungen
CLASS:PUBLIC
DESCRIPTION;ALTREP="CID:<FFFF__=0ABBE548DFE235B58f9e8a93d@coffeebean.com>":
 Der genaue Plan wird noch besprochen! \;-)\nUnkostenbeitrag: 20\,- EUR
DTSTART:20240413T120000Z
DTEND:20240413T170000Z
GEO:+48.28471;+14.79907
LOCATION:Leos Grillschule im Stillen Tal\, 4362 Thomastal 10
ORGANIZER;CN=:mailto:info@bbq-grill-akademie.at
SEQUENCE:1
SUMMARY:1. Probegrillen für SOTW 2024
TRANSP:OPAQUE
URL:https://www.bbq-grill-akademie.at/termine/16-1-probegrillen-fuer-sotw-2
 024
END:VEVENT
END:VCALENDAR
